BEGIN:VCALENDAR
VERSION:2.0
PRODID:-//LA WAIDE CIE - ECPv6.8.3//NONSGML v1.0//EN
CALSCALE:GREGORIAN
METHOD:PUBLISH
X-ORIGINAL-URL:http://lawaidecie.com
X-WR-CALDESC:Évènements pour LA WAIDE CIE
REFRESH-INTERVAL;VALUE=DURATION:PT1H
X-Robots-Tag:noindex
X-PUBLISHED-TTL:PT1H
BEGIN:VTIMEZONE
TZID:Europe/Paris
BEGIN:DAYLIGHT
TZOFFSETFROM:+0100
TZOFFSETTO:+0200
TZNAME:CEST
DTSTART:20250330T010000
END:DAYLIGHT
BEGIN:STANDARD
TZOFFSETFROM:+0200
TZOFFSETTO:+0100
TZNAME:CET
DTSTART:20251026T010000
END:STANDARD
END:VTIMEZONE
BEGIN:VEVENT
DTSTART;VALUE=DATE:20251202
DTEND;VALUE=DATE:20251203
DTSTAMP:20260425T222417
CREATED:20250916T085236Z
LAST-MODIFIED:20250916T085237Z
UID:3142-1764633600-1764719999@lawaidecie.com
SUMMARY:Conciliabule - Lavelanet (09)
DESCRIPTION:Mardi 2 décembre à 9h15\, 10h30 et 14h15
URL:http://lawaidecie.com/event/conciliabule-lavelanet-09/
LOCATION:Le Casino\, 2 rue René Cassin\, Lavelanet\, 09300\, France
CATEGORIES:Conciliabule
END:VEVENT
BEGIN:VEVENT
DTSTART;VALUE=DATE:20251203
DTEND;VALUE=DATE:20251205
DTSTAMP:20260425T222417
CREATED:20250916T085415Z
LAST-MODIFIED:20250916T085416Z
UID:3145-1764720000-1764892799@lawaidecie.com
SUMMARY:Conciliabule - Castres (81)
DESCRIPTION:Mercredi 3 décembre à 15h30 – \nJeudi 4 décembre à 9h15 et 10h30
URL:http://lawaidecie.com/event/conciliabule-castres-81/
LOCATION:Théâtre municipal de Castres\, Rue de l'Hôtel de Ville\, Castres\, 81100\, France
CATEGORIES:Conciliabule
END:VEVENT
BEGIN:VEVENT
DTSTART;VALUE=DATE:20251205
DTEND;VALUE=DATE:20251207
DTSTAMP:20260425T222417
CREATED:20250916T085930Z
LAST-MODIFIED:20250916T085930Z
UID:3148-1764892800-1765065599@lawaidecie.com
SUMMARY:Conciliabule - Montauban (82)
DESCRIPTION:Vendredi 5 décembre à 9h15 et 10h30 (scolaires) – \nSamedi 6 décembre à 10h30 (TP\, salle des fêtes de Puycornet)
URL:http://lawaidecie.com/event/conciliabule-montauban-82/
LOCATION:Salle des Fetes de Puycornet\, Puycornet\, 82220
CATEGORIES:Conciliabule
END:VEVENT
BEGIN:VEVENT
DTSTART;VALUE=DATE:20251207
DTEND;VALUE=DATE:20251208
DTSTAMP:20260425T222417
CREATED:20250916T090051Z
LAST-MODIFIED:20250916T090051Z
UID:3151-1765065600-1765151999@lawaidecie.com
SUMMARY:Conciliabule - Merville (59)
DESCRIPTION:Dimanche 7 décembre à 16h30
URL:http://lawaidecie.com/event/conciliabule-merville-59/
LOCATION:Espace culturel Robert Hossein\, 19 rue du Pont de Pierre\, Merville\, 59660\, France
CATEGORIES:Conciliabule
END:VEVENT
BEGIN:VEVENT
DTSTART;VALUE=DATE:20251210
DTEND;VALUE=DATE:20251211
DTSTAMP:20260425T222417
CREATED:20250916T090216Z
LAST-MODIFIED:20250916T090216Z
UID:3154-1765324800-1765411199@lawaidecie.com
SUMMARY:Les Frères Bricolo - Écuires (62)
DESCRIPTION:Mercredi 10 décembre à 16h30
URL:http://lawaidecie.com/event/les-freres-bricolo-ecuires-62/
LOCATION:Salle des Fetes d’Écuires\, Rue de la Mairie\, Écuires\, 62170\, France
CATEGORIES:Les frères bricolo
END:VEVENT
END:VCALENDAR