BEGIN:VCALENDAR
VERSION:2.0
PRODID:-//LA WAIDE CIE - ECPv6.8.3//NONSGML v1.0//EN
CALSCALE:GREGORIAN
METHOD:PUBLISH
X-WR-CALNAME:LA WAIDE CIE
X-ORIGINAL-URL:http://lawaidecie.com
X-WR-CALDESC:Évènements pour LA WAIDE CIE
REFRESH-INTERVAL;VALUE=DURATION:PT1H
X-Robots-Tag:noindex
X-PUBLISHED-TTL:PT1H
BEGIN:VTIMEZONE
TZID:Europe/Paris
BEGIN:DAYLIGHT
TZOFFSETFROM:+0100
TZOFFSETTO:+0200
TZNAME:CEST
DTSTART:20250330T010000
END:DAYLIGHT
BEGIN:STANDARD
TZOFFSETFROM:+0200
TZOFFSETTO:+0100
TZNAME:CET
DTSTART:20251026T010000
END:STANDARD
END:VTIMEZONE
BEGIN:VEVENT
DTSTART;VALUE=DATE:20251104
DTEND;VALUE=DATE:20251108
DTSTAMP:20260425T234949
CREATED:20250916T083353Z
LAST-MODIFIED:20250916T083805Z
UID:3126-1762214400-1762559999@lawaidecie.com
SUMMARY:Conciliabule - tournée Petite-Forêt (59)
DESCRIPTION:Mardi 4 novembre à 10h (Rombies et Marchipon) – \nMercredi 5 novembre à 10h (Petite-Forêt) – \nJeudi 6 novembre à 10h (Thivencelle) – \nVendredi 7 novembre à 10h (Crespin)
URL:http://lawaidecie.com/event/conciliabule-petite-foret-59/
CATEGORIES:Conciliabule
END:VEVENT
BEGIN:VEVENT
DTSTART;VALUE=DATE:20251112
DTEND;VALUE=DATE:20251113
DTSTAMP:20260425T234949
CREATED:20250916T083551Z
LAST-MODIFIED:20250916T083551Z
UID:3128-1762905600-1762991999@lawaidecie.com
SUMMARY:Bulle - Saint-Riquier (80)
DESCRIPTION:Mercredi 12 novembre à 10h et 11h
URL:http://lawaidecie.com/event/bulle-saint-riquier-80/
LOCATION:Centre Culturel Départemental de Saint-Riquier\, Place de l'Eglise\, Saint-Riquier\, 80135\, France
CATEGORIES:Bulle
END:VEVENT
BEGIN:VEVENT
DTSTART;VALUE=DATE:20251113
DTEND;VALUE=DATE:20251115
DTSTAMP:20260425T234949
CREATED:20250916T083743Z
LAST-MODIFIED:20250916T083743Z
UID:3131-1762992000-1763164799@lawaidecie.com
SUMMARY:Bulle - tournée CC du Val-Briard (77)
DESCRIPTION:Jeudi 13 novembre à 9h15 (Pécy) et 16h (Les Chapelles-Bourbon) – \nVendredi 14 novembre à 9h15 et 10h30 (Liverdy-en-Brie)
URL:http://lawaidecie.com/event/bulle-tournee-cc-du-val-briard-77/
CATEGORIES:Bulle
END:VEVENT
BEGIN:VEVENT
DTSTART;VALUE=DATE:20251118
DTEND;VALUE=DATE:20251120
DTSTAMP:20260425T234949
CREATED:20250916T084010Z
LAST-MODIFIED:20250916T084010Z
UID:3134-1763424000-1763596799@lawaidecie.com
SUMMARY:Conciliabule - Chamonix-Mont-Blanc (74)
DESCRIPTION:Mardi 18 novembre à 10h et 15h – \nMercredi 19 novembre à 10h
URL:http://lawaidecie.com/event/conciliabule-chamonix-mont-blanc-74/
LOCATION:Espace Michel Croz – EMC2\, Place du Mont-Blanc\, Chamonix-Mont-Blanc\, 74400\, France
CATEGORIES:Conciliabule
END:VEVENT
BEGIN:VEVENT
DTSTART;VALUE=DATE:20251119
DTEND;VALUE=DATE:20251123
DTSTAMP:20260425T234949
CREATED:20250916T084344Z
LAST-MODIFIED:20250916T084344Z
UID:3137-1763510400-1763855999@lawaidecie.com
SUMMARY:Bulle - tournée Chamonix-Mont-Blanc (74)
DESCRIPTION:Mercredi 19 novembre à 15h et 16h (crèche Petite Cordée) – \nJeudi 20 novembre à 10h45 (crèche Pèlerins) – \nVendredi 21 novembre à 10h (Salle Polyvalente Argentière) – \nSamedi 22 novembre à 10h (Maison des artistes)
URL:http://lawaidecie.com/event/bulle-tournee-chamonix-mont-blanc-74/
CATEGORIES:Bulle
END:VEVENT
BEGIN:VEVENT
DTSTART;VALUE=DATE:20251127
DTEND;VALUE=DATE:20251129
DTSTAMP:20260425T234949
CREATED:20250916T084702Z
LAST-MODIFIED:20250917T123355Z
UID:3139-1764201600-1764374399@lawaidecie.com
SUMMARY:Après la Pluie - Gennevilliers (92)
DESCRIPTION:Jeudi 27 novembre à 9h30 et 10h45 – \nVendredi 28 novembre à 9h30 et 10h45
URL:http://lawaidecie.com/event/apres-la-pluie-gennevilliers-92/
LOCATION:Espace Aimé Césaire\, 6 avenue du Luth\, Gennevilliers\, 92230\, France
CATEGORIES:Après la Pluie
END:VEVENT
END:VCALENDAR