BEGIN:VCALENDAR
VERSION:2.0
PRODID:-//LA WAIDE CIE - ECPv6.8.3//NONSGML v1.0//EN
CALSCALE:GREGORIAN
METHOD:PUBLISH
X-WR-CALNAME:LA WAIDE CIE
X-ORIGINAL-URL:http://lawaidecie.com
X-WR-CALDESC:Évènements pour LA WAIDE CIE
REFRESH-INTERVAL;VALUE=DURATION:PT1H
X-Robots-Tag:noindex
X-PUBLISHED-TTL:PT1H
BEGIN:VTIMEZONE
TZID:Europe/Paris
BEGIN:DAYLIGHT
TZOFFSETFROM:+0100
TZOFFSETTO:+0200
TZNAME:CEST
DTSTART:20260329T010000
END:DAYLIGHT
BEGIN:STANDARD
TZOFFSETFROM:+0200
TZOFFSETTO:+0100
TZNAME:CET
DTSTART:20261025T010000
END:STANDARD
END:VTIMEZONE
BEGIN:VEVENT
DTSTART;VALUE=DATE:20260316
DTEND;VALUE=DATE:20260319
DTSTAMP:20260425T195042
CREATED:20250916T091551Z
LAST-MODIFIED:20250916T091551Z
UID:3173-1773619200-1773878399@lawaidecie.com
SUMMARY:Bric & Broc - Arras (62)\, tournée en décentralisation
DESCRIPTION:Lundi 16 mars à 9h30 et 10h30 – \nMardi 17 mars à 9h30 et 10h30 – \nMercredi 18 mars à 9h30 et 10h30 \n 
URL:http://lawaidecie.com/event/bric-broc-arras-62-tournee-en-decentralisation/
CATEGORIES:Bric & Broc
END:VEVENT
END:VCALENDAR