BEGIN:VCALENDAR
VERSION:2.0
PRODID:-//LA WAIDE CIE - ECPv6.8.3//NONSGML v1.0//EN
CALSCALE:GREGORIAN
METHOD:PUBLISH
X-WR-CALNAME:LA WAIDE CIE
X-ORIGINAL-URL:http://lawaidecie.com
X-WR-CALDESC:Évènements pour LA WAIDE CIE
REFRESH-INTERVAL;VALUE=DURATION:PT1H
X-Robots-Tag:noindex
X-PUBLISHED-TTL:PT1H
BEGIN:VTIMEZONE
TZID:Europe/Paris
BEGIN:DAYLIGHT
TZOFFSETFROM:+0100
TZOFFSETTO:+0200
TZNAME:CEST
DTSTART:20260329T010000
END:DAYLIGHT
BEGIN:STANDARD
TZOFFSETFROM:+0200
TZOFFSETTO:+0100
TZNAME:CET
DTSTART:20261025T010000
END:STANDARD
END:VTIMEZONE
BEGIN:VEVENT
DTSTART;VALUE=DATE:20260312
DTEND;VALUE=DATE:20260314
DTSTAMP:20260425T195041
CREATED:20251217T144920Z
LAST-MODIFIED:20251217T144921Z
UID:3415-1773273600-1773446399@lawaidecie.com
SUMMARY:Graines de Toi - Méneslies (80)
DESCRIPTION:Jeudi 12 mars à 10h30 et 14h30 – \nVendredi 13 mars à 10h30 et 14h30
URL:http://lawaidecie.com/event/graines-de-toi-meneslies-80/
LOCATION:Salle des Fêtes de Méneslies\, Rue du 8 Mai\, Méneslies\, 80520\, France
CATEGORIES:Graines de toi
END:VEVENT
END:VCALENDAR