BEGIN:VCALENDAR
VERSION:2.0
PRODID:-//LA WAIDE CIE - ECPv6.8.3//NONSGML v1.0//EN
CALSCALE:GREGORIAN
METHOD:PUBLISH
X-ORIGINAL-URL:http://lawaidecie.com
X-WR-CALDESC:Évènements pour LA WAIDE CIE
REFRESH-INTERVAL;VALUE=DURATION:PT1H
X-Robots-Tag:noindex
X-PUBLISHED-TTL:PT1H
BEGIN:VTIMEZONE
TZID:Europe/Paris
BEGIN:DAYLIGHT
TZOFFSETFROM:+0100
TZOFFSETTO:+0200
TZNAME:CEST
DTSTART:20260329T010000
END:DAYLIGHT
BEGIN:STANDARD
TZOFFSETFROM:+0200
TZOFFSETTO:+0100
TZNAME:CET
DTSTART:20261025T010000
END:STANDARD
END:VTIMEZONE
BEGIN:VEVENT
DTSTART;VALUE=DATE:20260126
DTEND;VALUE=DATE:20260129
DTSTAMP:20260425T210747
CREATED:20250916T090600Z
LAST-MODIFIED:20250916T090600Z
UID:3159-1769385600-1769644799@lawaidecie.com
SUMMARY:Après la Pluie - tournée CC du Vimeu (80)
DESCRIPTION:Lundi 26 janvier à 9h et 10h – \nMardi 27 janvier à 9h et 10h – \nMercredi 28 janvier à 15h30
URL:http://lawaidecie.com/event/apres-la-pluie-tournee-cc-du-vimeu-80/
CATEGORIES:Après la Pluie
END:VEVENT
END:VCALENDAR