BEGIN:VCALENDAR
VERSION:2.0
PRODID:-//LA WAIDE CIE - ECPv6.8.3//NONSGML v1.0//EN
CALSCALE:GREGORIAN
METHOD:PUBLISH
X-WR-CALNAME:LA WAIDE CIE
X-ORIGINAL-URL:http://lawaidecie.com
X-WR-CALDESC:Évènements pour LA WAIDE CIE
REFRESH-INTERVAL;VALUE=DURATION:PT1H
X-Robots-Tag:noindex
X-PUBLISHED-TTL:PT1H
BEGIN:VTIMEZONE
TZID:Europe/Paris
BEGIN:DAYLIGHT
TZOFFSETFROM:+0100
TZOFFSETTO:+0200
TZNAME:CEST
DTSTART:20250330T010000
END:DAYLIGHT
BEGIN:STANDARD
TZOFFSETFROM:+0200
TZOFFSETTO:+0100
TZNAME:CET
DTSTART:20251026T010000
END:STANDARD
END:VTIMEZONE
BEGIN:VEVENT
DTSTART;VALUE=DATE:20251210
DTEND;VALUE=DATE:20251211
DTSTAMP:20260425T234951
CREATED:20250916T090216Z
LAST-MODIFIED:20250916T090216Z
UID:3154-1765324800-1765411199@lawaidecie.com
SUMMARY:Les Frères Bricolo - Écuires (62)
DESCRIPTION:Mercredi 10 décembre à 16h30
URL:http://lawaidecie.com/event/les-freres-bricolo-ecuires-62/
LOCATION:Salle des Fetes d’Écuires\, Rue de la Mairie\, Écuires\, 62170\, France
CATEGORIES:Les frères bricolo
END:VEVENT
END:VCALENDAR