BEGIN:VCALENDAR
VERSION:2.0
PRODID:-//LA WAIDE CIE - ECPv6.8.3//NONSGML v1.0//EN
CALSCALE:GREGORIAN
METHOD:PUBLISH
X-ORIGINAL-URL:http://lawaidecie.com
X-WR-CALDESC:Évènements pour LA WAIDE CIE
REFRESH-INTERVAL;VALUE=DURATION:PT1H
X-Robots-Tag:noindex
X-PUBLISHED-TTL:PT1H
BEGIN:VTIMEZONE
TZID:Europe/Paris
BEGIN:DAYLIGHT
TZOFFSETFROM:+0100
TZOFFSETTO:+0200
TZNAME:CEST
DTSTART:20250330T010000
END:DAYLIGHT
BEGIN:STANDARD
TZOFFSETFROM:+0200
TZOFFSETTO:+0100
TZNAME:CET
DTSTART:20251026T010000
END:STANDARD
END:VTIMEZONE
BEGIN:VEVENT
DTSTART;VALUE=DATE:20251127
DTEND;VALUE=DATE:20251129
DTSTAMP:20260426T011853
CREATED:20250916T084702Z
LAST-MODIFIED:20250917T123355Z
UID:3139-1764201600-1764374399@lawaidecie.com
SUMMARY:Après la Pluie - Gennevilliers (92)
DESCRIPTION:Jeudi 27 novembre à 9h30 et 10h45 – \nVendredi 28 novembre à 9h30 et 10h45
URL:http://lawaidecie.com/event/apres-la-pluie-gennevilliers-92/
LOCATION:Espace Aimé Césaire\, 6 avenue du Luth\, Gennevilliers\, 92230\, France
CATEGORIES:Après la Pluie
END:VEVENT
END:VCALENDAR