BEGIN:VCALENDAR
VERSION:2.0
PRODID:-//LA WAIDE CIE - ECPv6.8.3//NONSGML v1.0//EN
CALSCALE:GREGORIAN
METHOD:PUBLISH
X-WR-CALNAME:LA WAIDE CIE
X-ORIGINAL-URL:http://lawaidecie.com
X-WR-CALDESC:Évènements pour LA WAIDE CIE
REFRESH-INTERVAL;VALUE=DURATION:PT1H
X-Robots-Tag:noindex
X-PUBLISHED-TTL:PT1H
BEGIN:VTIMEZONE
TZID:Europe/Paris
BEGIN:DAYLIGHT
TZOFFSETFROM:+0100
TZOFFSETTO:+0200
TZNAME:CEST
DTSTART:20250330T010000
END:DAYLIGHT
BEGIN:STANDARD
TZOFFSETFROM:+0200
TZOFFSETTO:+0100
TZNAME:CET
DTSTART:20251026T010000
END:STANDARD
END:VTIMEZONE
BEGIN:VEVENT
DTSTART;VALUE=DATE:20251026
DTEND;VALUE=DATE:20251028
DTSTAMP:20260426T025002
CREATED:20250916T083108Z
LAST-MODIFIED:20250916T083108Z
UID:3123-1761436800-1761609599@lawaidecie.com
SUMMARY:Conciliabule - Longueau (80)
DESCRIPTION:Dimanche 26 octobre à 17h (TP) – \nLundi 27 octobre à 10h30 et 14h30 (scolaires)
URL:http://lawaidecie.com/event/conciliabule-longueau-80/
LOCATION:Le Trait d’Union\, 49 Rue Anatole France\, Longueau\, 80330\, France
CATEGORIES:Conciliabule
END:VEVENT
END:VCALENDAR