BEGIN:VCALENDAR
VERSION:2.0
PRODID:-//LA WAIDE CIE - ECPv6.8.3//NONSGML v1.0//EN
CALSCALE:GREGORIAN
METHOD:PUBLISH
X-ORIGINAL-URL:http://lawaidecie.com
X-WR-CALDESC:Évènements pour LA WAIDE CIE
REFRESH-INTERVAL;VALUE=DURATION:PT1H
X-Robots-Tag:noindex
X-PUBLISHED-TTL:PT1H
BEGIN:VTIMEZONE
TZID:Europe/Paris
BEGIN:DAYLIGHT
TZOFFSETFROM:+0100
TZOFFSETTO:+0200
TZNAME:CEST
DTSTART:20250330T010000
END:DAYLIGHT
BEGIN:STANDARD
TZOFFSETFROM:+0200
TZOFFSETTO:+0100
TZNAME:CET
DTSTART:20251026T010000
END:STANDARD
END:VTIMEZONE
BEGIN:VEVENT
DTSTART;VALUE=DATE:20251025
DTEND;VALUE=DATE:20251026
DTSTAMP:20260426T031425
CREATED:20250916T082823Z
LAST-MODIFIED:20250916T082823Z
UID:3120-1761350400-1761436799@lawaidecie.com
SUMMARY:Bulle - Amiens (80)
DESCRIPTION:Samedi 25 octobre à 10h
URL:http://lawaidecie.com/event/bulle-amiens-80/
LOCATION:Bibliothèque Hélène Bernheim\, 3 rue Georges Guynemer\, Amiens\, 80000\, France
CATEGORIES:Bulle
END:VEVENT
END:VCALENDAR