BEGIN:VCALENDAR
VERSION:2.0
PRODID:-//LA WAIDE CIE - ECPv6.8.3//NONSGML v1.0//EN
CALSCALE:GREGORIAN
METHOD:PUBLISH
X-WR-CALNAME:LA WAIDE CIE
X-ORIGINAL-URL:http://lawaidecie.com
X-WR-CALDESC:Évènements pour LA WAIDE CIE
REFRESH-INTERVAL;VALUE=DURATION:PT1H
X-Robots-Tag:noindex
X-PUBLISHED-TTL:PT1H
BEGIN:VTIMEZONE
TZID:Europe/Paris
BEGIN:DAYLIGHT
TZOFFSETFROM:+0100
TZOFFSETTO:+0200
TZNAME:CEST
DTSTART:20250330T010000
END:DAYLIGHT
BEGIN:STANDARD
TZOFFSETFROM:+0200
TZOFFSETTO:+0100
TZNAME:CET
DTSTART:20251026T010000
END:STANDARD
END:VTIMEZONE
BEGIN:VEVENT
DTSTART;VALUE=DATE:20251022
DTEND;VALUE=DATE:20251023
DTSTAMP:20260426T031252
CREATED:20250916T082706Z
LAST-MODIFIED:20250916T082706Z
UID:3117-1761091200-1761177599@lawaidecie.com
SUMMARY:Bulle - Festival Tiot Loupiot - Frévent (62)
DESCRIPTION:Mercredi 22 octobre à 9h45 et 11h
URL:http://lawaidecie.com/event/bulle-festival-tiot-loupiot-frevent-62/
LOCATION:Médiathèque Jeanine Soyez\, 12 rue Wilson\, Frévent\, 62270\, France
CATEGORIES:Bulle
END:VEVENT
END:VCALENDAR